BEGIN:VCALENDAR
VERSION:2.0
PRODID:-//Settime - ECPv6.15.20//NONSGML v1.0//EN
CALSCALE:GREGORIAN
METHOD:PUBLISH
X-WR-CALNAME:Settime
X-ORIGINAL-URL:https://settime.com.br
X-WR-CALDESC:Eventos para Settime
REFRESH-INTERVAL;VALUE=DURATION:PT1H
X-Robots-Tag:noindex
X-PUBLISHED-TTL:PT1H
BEGIN:VTIMEZONE
TZID:America/Sao_Paulo
BEGIN:STANDARD
TZOFFSETFROM:-0300
TZOFFSETTO:-0300
TZNAME:-03
DTSTART:20240101T000000
END:STANDARD
END:VTIMEZONE
BEGIN:VEVENT
DTSTART;VALUE=DATE:20251005
DTEND;VALUE=DATE:20251006
DTSTAMP:20260423T165151
CREATED:20250826T201129Z
LAST-MODIFIED:20250826T201129Z
UID:1957-1759622400-1759708799@settime.com.br
SUMMARY:CORRIDA E CAMINHADA ROTARY RUN 8K
DESCRIPTION:SOBRE O EVENTO  \n🗓 Data: 05 de outubro de 2025\n⏰ Horário da largada: 7h30 (chegue cedo!)\n📍 Local: Em frente ao Aquário Municipal de Santos – Av. Bartolomeu de Gusmão\, s/n – Praça Luiz La Scalla – Ponta da Praia\, Santos/SP\nConcentração as 7 horas\nLargada as 7:30h pontualmente. \n🌟 Objetivos:\n– Engajar a comunidade na luta contra a poliomielite (campanha END POLIO NOW – Rotary Internacional)\n– Arrecadar fundos para a Creche Cantinho Alegre\, que atende 229 crianças\n– Incentivar hábitos saudáveis e promover qualidade de vida através do esporte \n  \n\nPERCURSO  \n📏 Percurso: 8 km de corrida e caminhada pela orla de Santos (asfalto)\n⏳ Duração máxima: 90 minutos\n👟 Caminhantes devem largar atrás dos corredores\n🙋‍♂️🙋‍♀️ Categorias: Geral – Masculino e Feminino\n  \n\nINSCRIÇÕES  \n📅 Encerramento: 24 de setembro de 2025 ou até o preenchimento das vagas\n💳 Valor: R$ 99\,00\n  \n\nENTREGA DE KITS  \n📦 Retirada dos Kits:\n– Data: 04 de outubro de 2025 (sábado)\n– Local: A entrega será no dia 4 No endereço Avenida conselheiro Nebias 156 – Vila Nova Santos – Sede da Creche Cantinho Alegre\nHorário Das 8 às 20 horas\n🚫 Sem entrega no dia da prova (salvo exceções autorizadas) \n🎽 Tipos de Kit:\n1️⃣ Kit Completo: Camiseta\, sacola\, número de peito e chip\n2️⃣ Kit Promocional: Número de peito e chip \n  \n\nPREMIAÇÃO  \n🏆 Premiação (Categoria Geral 8K – tempo bruto):\n– Masculino: 1º\, 2º e 3º colocados\n– Feminino: 1ª\, 2ª e 3ª colocadas \n🎖 Medalha de participação para todos os concluintes \n  \n\nPROGRAMAÇÃO  \n⚠️ Regras:\n– Uso obrigatório de chip e número de peito\n– Prova realizada sob qualquer clima (exceto em caso de risco à integridade dos atletas)\n– Sem inscrições no dia do evento\n– Ao se inscrever\, o atleta declara estar apto fisicamente e isenta a organização de responsabilidades médicas\n– Casos omissos serão decididos pela Comissão Organizadora\n  \n\nREGULAMENTO e DECLARAÇÃO  \nCLIQUE AQUI para acessar o regulamento.\nCLIQUE AQUI para acessar a declaração. \n\n  \n\nCURIOSIDADES  \n🌊 Percurso à beira-mar na orla de Santos\n💙 Ambiente familiar e solidário\n📸 Imagens dos participantes poderão ser usadas para divulgação do evento\n♻️ Incentivo à consciência social e comunitária através da arrecadação de fundos para uma creche local e apoio à campanha de erradicação da poliomielite\n📣 Informações e contato:\n✉️ rotaryvbelmiro@gmail.com\n📱 Divulgação via redes sociais com hashtags como #RotaryRun8k\, #EndPolioNow\, #CorridaSolidária\, #EsporteTransforma\n  \n\n\n\n\n\n\nVendas até 24/09/2025 23:59 ou até o limite de vagas. \n Em até 6x no cartão\n\nORGANIZADORRotary Club de Santos Vila Belmiro \nFale com o organizado\n\n\n\n\n\n\nJÁ FEZ SEU PEDIDO? \n2ª via de boletoProtocolo de inscriçãoAcesse a Área do ParticipanteDúvidas sobre a inscriçãoFale conoscoDenunciar evento\n\n\n\n\n\n\n\n\nO percurso é de 8 k com saída e chegada no Aquario Municipal pela via do lado da praia
URL:https://settime.com.br/event/corrida-e-caminhada-rotary-run-8k/
LOCATION:Santos – SP\, Avenida Presidente Wilson S/N Canal 1\, Santos\, Sao Paulo\, 11065-201\, Brazil
ATTACH;FMTTYPE=image/png:https://settime.com.br/wp-content/uploads/2025/08/ro.png
END:VEVENT
BEGIN:VEVENT
DTSTART;VALUE=DATE:20251019
DTEND;VALUE=DATE:20251020
DTSTAMP:20260423T165151
CREATED:20250820T224151Z
LAST-MODIFIED:20250820T224151Z
UID:1935-1760832000-1760918399@settime.com.br
SUMMARY:Corrida Prevenção Outubro Rosa
DESCRIPTION:Informações Gerais\n\n\n\n\nLocal\nComplexo ao lado do Ginásio de Esportes Ayrton Senna da Silva – Itapetininga \n\n\n\n\n\nHorários\ndas 07:00 às 12:00 \n\n\n\n\n\nEncerramento das inscrições\n31/08/2025 23:59 \n\n\n\n\n\nRetirada de kits\nRetirada de kit: Banco Totalis End: Silva Jardim\, 594 Centro das 10h às 19h sábado dia 11/10 \n\n\n\n\n\nInformações Gerais\nCorrida da prevenção: Kit Oficial Camiseta Sacola do banco totalis 1 salgado chef chips Numero de peito Chip cronometragem 1 banana Água Balada Fitness com Academia Gaviões ________Premiação em dinheiro para os 5 primeiros Geral masc e fem Primeiro lugar R$500\,00 Vice campeão R$400\,00 terceiro lugar R$300\,00 Quarto lugar R$200\,00 Quinto lugar R$100\,00 Premiações: Para todos que concluírem a prova ganharão uma medalha personalizada Destacar a medalha personalizada Troféu para os 5 primeiros geral e das categorias Utilize o cupom de desconto ( Válido nas primeiras 24 horas ) #eucorropelacausa Largada ao lado do Ginasio de esportes Ayrton Senna Concentração:6h Largada:7h Doação solidária: 1 litro de leite para Fundo social de solidariedade de Itapetininga-SP
URL:https://settime.com.br/event/corrida-prevencao-outubro-rosa/
LOCATION:Itapetininga-SP
ATTACH;FMTTYPE=image/jpeg:https://settime.com.br/wp-content/uploads/2025/08/Corrida-Prevencao-Outubro-Rosa.jpg
END:VEVENT
BEGIN:VEVENT
DTSTART;VALUE=DATE:20251026
DTEND;VALUE=DATE:20251027
DTSTAMP:20260423T165151
CREATED:20251020T225303Z
LAST-MODIFIED:20251020T225303Z
UID:2182-1761436800-1761523199@settime.com.br
SUMMARY:I CORRIDA DE VICENTE DE CARVALHO E DO SERVIDOR PUBLICO 3.5K E 7K
DESCRIPTION: Educa Guarujá\n 26/10/2025\n Praça 14 Bis em Vicente de Carvalho Guarujá. \, Guarujá\, SP\, Brasil\n\nSOBRE O EVENTO  \nA I Corrida de Vicente de Carvalho e do Servidor público 3.5K e 7K DO GUARUJÁ São Paulo aqui denominado corrida\, é promovido pelo Sindicato dos Funcionário Públicos do Guarujá\, contando com a organização do Educa Guarujá Sport Fitness e apoio da Prefeitura Municipal do Guarujá e da Secretaria de Esportes e Lazer do Guarujá e respectivos órgãos públicos \nTem caráter de evento esportivo\, e faz parte do calendário oficial de eventos da cidade de Guarujá–SP\, com objetivo de inclusão social\, incentivo ao esporte e confraternização entre adeptos da modalidade. O evento é aberto a atletas anônimos\, amadores\, profissionais\, equipes\, associações\, federações\, clubes e confederações sendo composto por um regulamento específico agora referido. \nO presente regulamento é somente para a primeira corrida de Vicente de Carvalho e do Funcionário Publico 3.5k e 7K \nData 26 de outubro de 2025 com largada e Chega na Praça 14 Bis em Vicente de Carvalho Guarujá \nHORÁRIO PREVISTO DE LARGADA: 7h \nCONDIÇÕES CLIMÁTICAS\nA largada da corrida será realizada no dia e local mencionado acima\, com qualquer condição climática. \nPERCURSO\nA corrida será disputada nas distâncias de 3.5K e 7K tipos de solo Asfalto\, com duração máxima de 2h00 (Duas horas) e o atleta que\, em qualquer dos trechos\, não estiver dentro do tempo projetado\, será convidado a se retirar da corrida.
URL:https://settime.com.br/event/i-corrida-de-vicente-de-carvalho-e-do-servidor-publico-3-5k-e-7k/
LOCATION:GUARUJÁ-SP
ATTACH;FMTTYPE=image/png:https://settime.com.br/wp-content/uploads/2025/10/edu.png
END:VEVENT
END:VCALENDAR