BEGIN:VCALENDAR
VERSION:2.0
PRODID:-//Settime - ECPv6.15.20//NONSGML v1.0//EN
CALSCALE:GREGORIAN
METHOD:PUBLISH
X-ORIGINAL-URL:https://settime.com.br
X-WR-CALDESC:Eventos para Settime
REFRESH-INTERVAL;VALUE=DURATION:PT1H
X-Robots-Tag:noindex
X-PUBLISHED-TTL:PT1H
BEGIN:VTIMEZONE
TZID:America/Sao_Paulo
BEGIN:STANDARD
TZOFFSETFROM:-0300
TZOFFSETTO:-0300
TZNAME:-03
DTSTART:20240101T000000
END:STANDARD
END:VTIMEZONE
BEGIN:VEVENT
DTSTART;VALUE=DATE:20250907
DTEND;VALUE=DATE:20250908
DTSTAMP:20260423T184411
CREATED:20250726T020856Z
LAST-MODIFIED:20250726T020856Z
UID:1813-1757203200-1757289599@settime.com.br
SUMMARY:I Corrida da independência 2025 - embú guaçu
DESCRIPTION:SOBRE O EVENTO  \n📅 Data: 07 de setembro de 2025\n📍 Local: Praça Ivan Braga – Av. Boa Vista\, 650 – Centro – Embu-Guaçu – SP\n🕕 Concentração: a partir das 7h00 \nChegou o momento de movimentar Embu-Guaçu! 1a. CORRIDA DE RUA DA INDEPENDÊNCIA \n\nPARTICIPE VOCÊ TAMBÉM DESTA CORRIDA E CONVIDE TODA A SUA GALERA PARA ESTAR JUNTO COM VOCE!\n\n  \n\nPERCURSO  \n🎽 MODALIDADES\n👟 Corrida de Adultos:\n• 5 km – Participativa\n• 10 km – Participativa\n\n PREMIAÇÕES PARA A CORRIDA DOS ADULTOS PARA AMBOS OS SEXOS:\n– tempo bruto (geral) – Premiação para os 5 primeiros colocados\n– e tempo líquido (por faixa etária)\, com premiação dos 3 primeiros colocados nas seguintes faixas etárias\n– até 29 anos\n– de 30 a 39 anos\n– de 40 a 49 anos\n– de 50 a 59 anos\n– 60 anos em diante\n\n🚶 Caminhada:\n• 3 km – Participativa \n⏱️ Cronometragem:\n• Corrida adulta:\n         – tempo bruto (geral) – Premiação para os 5 primeiros colocados\n         – e tempo líquido (por faixa etária)\, com premiação dos 3 primeiros colocados por faixa etária  \n\n  \n\nINSCRIÇÕES  \n🛍️ VALORES DE INSCRIÇÃO\nLote 1 – até 31/07/2025:\n• Número de peito: R$ 59\,90\n• Número + Camiseta: R$ 79\,90 + taxa de inscrição\n* Kit Completo: R$ 99\,00 \nLote 2 – a partir de 01/08/2025:\n• Número de peito: R$ 69\,90\n• Número + Camiseta: R$ 89\,90 + taxa de inscrição \n* Kit Completo: R$ 120\,00 \n🔖 Descontos Especiais:\n• 15% para PcD (mediante envio prévio de documentação  para o Organizador)\n• 50% para estudantes (conforme Lei 12.933/2013\, mediante envio prévio das documentações  para o Organizador) \n• 50% para idosos (conforme Lei 12.735/2007\, com comprovação de idade pela apresentação de documento legal)\n  \n\nENTREGA DE KITS  \n📦 RETIRADA DO KIT\n➡️ 06/09/2025 – das 14h às 20h\n➡️ 07/09/2025 – das 6h às 7h30\n📍 Local: Praça Ivan Braga – Av. Boa Vista\, 650 – Centro – Embu-Guaçu – SP\n⚠️ A retirada pode ser feita por terceiros com autorização e cópia de documento do inscrito.\n  \n\nPREMIAÇÃO  \n🏅 PREMIAÇÃO\nEste é um evento participativo\, com foco em saúde e bem-estar. Não haverá premiação em dinheiro ou reconhecimento oficial junto a federações.\n➡️ Todos os participantes receberão medalha comemorativa ao final da prova.\n➡️ Haverá pódio simbólico para os primeiros colocados por tempo bruto e tempo líquido (faixa etária)\, conforme critérios da organização.\n  \n\nPROGRAMAÇÃO  \n📌 IMPORTANTE\n• Evento aberto a pessoas a partir de 16 anos (corridas adultas)\n• A inscrição é pessoal e intransferível\n• As camisetas serão entregues conforme disponibilidade de tamanhos \n📸 DIREITO DE IMAGEM\nA participação autoriza o uso gratuito de imagens e vídeos do evento para divulgação. \n🚨 SEGURANÇA E RESPONSABILIDADE\n• Participantes devem estar em boas condições de saúde\n• Haverá apoio médico no local\n• Responsabilidade sobre cuidados e seguros pessoais é de cada atleta\n• O evento pode ser adiado ou cancelado por motivos de força maior \n⚠️ A organização reserva-se o direito de fazer alterações no percurso e regulamento para garantir a segurança e qualidade do evento. \n  \n\nREGULAMENTO  \nREGULAMENTO.docx.pdf\n  \n\nCURIOSIDADES  \n🎉 Evento para toda a família com diversas atividades físicas\, para integração social e em um ambiente acolhedor. Ideal para quem busca saúde\, lazer e bem-estar em um só lugar!\nPropósito: Agitar toda a família\, movendo aqueles que estavam sedentários\, para que comece a perceber o valor dos exercícios físicos.\n\n🌐 FIQUE POR DENTRO!\n• Acompanhe todas as atualizações no site oficial:\n🔗 www.ligadeincentivoaoesporte.com.br/eventos\nInsta: ligadeincentivoaoesporte \n📧 DÚVIDAS?\nEntre em contato: ligadeincentivoaoesporte@gmail.com \n  \n\n\n\n\n\n\nVendas até 02/09/2025 23:59 ou até o limite de vagas. \n\nORGANIZADORARTE FINAL BRASIL
URL:https://settime.com.br/event/i-corrida-da-independencia-2025-embu-guacu/
LOCATION:Praça Ivan Braga – Av\, Boa Vista\, 650\, Embu-Guaçu\, SP\, Brasil
ATTACH;FMTTYPE=image/png:https://settime.com.br/wp-content/uploads/2025/07/7.png
END:VEVENT
BEGIN:VEVENT
DTSTART;VALUE=DATE:20250914
DTEND;VALUE=DATE:20250915
DTSTAMP:20260423T184411
CREATED:20250726T020108Z
LAST-MODIFIED:20250726T020108Z
UID:1810-1757808000-1757894399@settime.com.br
SUMMARY:EU SO CORRO PELA BANANA
DESCRIPTION:
URL:https://settime.com.br/event/eu-so-corro-pela-banana/
LOCATION:Embu das Artes\, Embu das Artes- SP\, São Paulo\, Brasil
ATTACH;FMTTYPE=image/png:https://settime.com.br/wp-content/uploads/2025/07/bana.png
END:VEVENT
BEGIN:VEVENT
DTSTART;VALUE=DATE:20250914
DTEND;VALUE=DATE:20250915
DTSTAMP:20260423T184411
CREATED:20250820T223458Z
LAST-MODIFIED:20250820T223458Z
UID:1930-1757808000-1757894399@settime.com.br
SUMMARY:Corrida e Caminhada com Maria 2ª Edição
DESCRIPTION:Local\nPaço municipal de Itapetininga-SP – Itapetininga \n\n\n\n\n\nHorários\ndas 06:00 às 12:00 \n\n\n\n\n\nEncerramento das inscrições\n05/07/2025 03:26 \n\n\n\n\n\nRetirada de kits\nA Retirada do kit será 1 dia antes do evento dia 13/09/2025 Local: à definir
URL:https://settime.com.br/event/corrida-e-caminhada-com-maria-2a-edicao/
LOCATION:Itapetininga-SP
ATTACH;FMTTYPE=image/jpeg:https://settime.com.br/wp-content/uploads/2025/08/2-corrida-e-caminhada-com-maria_2-copiar.jpg
END:VEVENT
BEGIN:VEVENT
DTSTART;VALUE=DATE:20250920
DTEND;VALUE=DATE:20250921
DTSTAMP:20260423T184411
CREATED:20250827T222849Z
LAST-MODIFIED:20250827T223032Z
UID:1961-1758326400-1758412799@settime.com.br
SUMMARY:I Corrida CPV – CORRIDA PELA VIDA 5K
DESCRIPTION:
URL:https://settime.com.br/event/i-corrida-cpv-corrida-pela-vida-5k/
LOCATION:GUARUJÁ-SP
ATTACH;FMTTYPE=image/jpeg:https://settime.com.br/wp-content/uploads/2025/08/cpv.jpg
END:VEVENT
BEGIN:VEVENT
DTSTART;VALUE=DATE:20250921
DTEND;VALUE=DATE:20250922
DTSTAMP:20260423T184411
CREATED:20250804T204229Z
LAST-MODIFIED:20250804T204229Z
UID:1892-1758412800-1758499199@settime.com.br
SUMMARY:Corrida JUNTOS PELA VIDA
DESCRIPTION:A PROVA\n1-\n2-\nA Corrida JUNTOS PELA VIDA\, será realizada no Parque Bruno Covas-SP\nData 21/09/25 Largada 7:30h.\nDistância de 5km e 10km \, Corrida e Caminhada\nEntrega de kits: Será no dia 20/09 sábado das 10h ás 16h.\nLocal: A definir\n2 – INSCRIÇÕES\, VALORES E KITS\n2.1- O atleta deve se inscrever pelo site até o dia 10/09/2025 ou até atingir o limite\nmáximo de participante.\nA taxa de inscrição:\nKit Completo: R$ 114\,90\nKit Simples: R$ 84\,90\nKit Idoso: R$ 84\,90\nKit completo: Chip\, número\, camiseta\, meia\, medalha\, água e fruta.\nKit Simples: Chip\, número\, medalha\, água e fruta.\nA premiação do atleta no evento é individual tempo bruto.\nGeral: Masculino / Feminino 5 km e 10km\n1ª Troféu\n2ª Troféu\n3ª Troféu\n4ª Troféu\n5ª Troféu\nNo dia da retirada do kit o participante deverá apresentar o documento de\nidentidade.
URL:https://settime.com.br/event/corrida-juntos-pela-vida/
LOCATION:SÃO PAULO-SP\, Av. Guido Caloi -Pista de Bike do Marginal Pinheiros\, 75\, Brasil
ATTACH;FMTTYPE=image/jpeg:https://settime.com.br/wp-content/uploads/2025/08/thumb.jpg
END:VEVENT
BEGIN:VEVENT
DTSTART;VALUE=DATE:20250921
DTEND;VALUE=DATE:20250922
DTSTAMP:20260423T184411
CREATED:20250820T222708Z
LAST-MODIFIED:20250820T222708Z
UID:1925-1758412800-1758499199@settime.com.br
SUMMARY:Burgman Run
DESCRIPTION:Detalhes do Evento\n\nVenha comemorar 9 anos de Burgman com a gente\, será um dia muito especial\, esteja preparado para correr e com sede para hidratar com muito chopp ao final da corrida\, você faz parte da nossa história! \n  \nLargada e chegada no Burgman do canal 1\, a corrida será pela faixa da areia e para todos os tipos de atletas e simpatizantes do chopp. \n  \nSe beber não dirija.. corra! 🏃🏻🍺 \n  \nKit da Corrida\n•⁠ ⁠mochila saco\n•⁠ ⁠⁠camiseta da corrida\n•⁠ ⁠⁠copo refil para chopp no evento\n•⁠ ⁠⁠pulseira com numeração para sorteio\n•⁠ ⁠⁠chip e número de peito do atleta \n  \nA retirada do kit acontecerá nos dias 18\, 19 e 20 de setembro das 16H até 22H na loja Premium Running no shopping Balneário. \n  \nTodos os participantes ganharão medalha e terá premiação para os 3 primeiros colocados categoria feminina e masculina\, bike\, dinheiro e muitos prêmios \, teremos sorteio de brindes para todos os atletas. \n  \nApós a corrida terá uma confraternização com todos os participantes\, DJ\, roda de samba e muito chopp para hidratar (já incluso no valor da inscrição) e ativação dos nossos patrocinadores. \n  \nDistância: 9 KM\nLargada: 8:00\nEndereço: Av Presidente Wilson\, S/N – Burgman Canal 1 \n  \n  \nEndereço\n\n\nQuiosque Burgman Canal 1 \nAvenida Presidente Wilson S/N Canal 1\, Santos – SP11065-201 – Quiosque de Praia – Pompéia\, Santos – SP\, 11065-201\, Brasil
URL:https://settime.com.br/event/burgman-run/
LOCATION:Santos – SP\, Avenida Presidente Wilson S/N Canal 1\, Santos\, Sao Paulo\, 11065-201\, Brazil
ATTACH;FMTTYPE=image/webp:https://settime.com.br/wp-content/uploads/2025/08/bu.webp
END:VEVENT
BEGIN:VEVENT
DTSTART;VALUE=DATE:20250928
DTEND;VALUE=DATE:20250929
DTSTAMP:20260423T184411
CREATED:20250804T210749Z
LAST-MODIFIED:20250804T210749Z
UID:1898-1759017600-1759103999@settime.com.br
SUMMARY:AGITA ZONA SUL - corrida de rua e caminhada
DESCRIPTION: ARTE FINAL BRASIL\n 28/09/2025\n Pista de Bike do Marginal Pinheiros: Av. Guido Caloi\, 75\, São Paulo\, SP\, Brasil\n\n\nSOBRE O EVENTO  \nVenha se movimentar com a gente na Zona Sul de São Paulo! \nNo dia 28 de setembro de 2025\, a Ciclovia Rio Pinheiros será o palco de um evento especial para todos os amantes de corrida e caminhada. Reunindo esporte\, saúde e bem-estar em um ambiente seguro e acessível\, o evento é ideal para corredores iniciantes\, experientes e também para quem prefere curtir uma boa caminhada. \n📍 Local: Ciclovia Rio Pinheiros – Zona Sul de São Paulo\nConcentração: Pomar Bruno Covas\nEntrada pela Av. Guido Caloi\, 75 (em frente ao Supermercado Assaí da Marginal Pinheiros). Próximo a ponte João Dias \n🕐 Horários:\n– Concentração a partir das 6h15\n– Largada da corrida: 7h00 (com possibilidade de extensão até às 7h30 conforme necessidade técnica) \n  \n\nPERCURSO🏁 Modalidades:\n– Corrida 5 km\n– Corrida 10 km\n– Caminhada participativa (3 km) \n\nINSCRIÇÕES  \n🔹 1º Lote até 31/08/2025:\n– Número de peito: R$ 55\,00 (+ taxa de inscrição)\n– Camiseta + número de peito: R$ 79\,90 (+ taxa de inscrição)\n– Kit completo; R$ 99\,00 (+ taxa de inscrição) \n🔹 2º Lote a partir de 01/09/2025:\n– Número de peito: R$ 59\,99 (+ taxa de inscrição)\n– Camiseta + número de peito: R$ 89\,90 (+ taxa de inscrição) \n– Kit completo; R$ 99\,00 (+ taxa de inscrição) \n📧 Descontos:\n– Pessoas com deficiência (PcD) e estudantes: 50% de desconto mediante envio de documentação para ligadeincentivoaoesporte@gmail.com\n– Idosos (60+): devem retirar o kit pessoalmente com documento. \n  \n\nENTREGA DE KITS  \n📦 Kit do Atleta:\n– Camiseta oficial do evento\n– Medalha de participação (entregue ao final da corrida) \n📅 Retirada de kits:\n– 26/09/2025 – das 10h às 19h\n– 27/09/2025 – das 10h às 15h\n📍 Local: Estrada do Campo Limpo\, 5137/5133 – Sala 4 – Campo Limpo – São Paulo/SP\n– No dia do evento (28/09) – das 6h às 6h30\, na tenda de kits no Pomar Bruno Covas \n  \n\nPREMIAÇÃO  \n– Corrida é participativa\, sem premiação em dinheiro ou classificação oficial.\n– Reconhecimento no pódio para os 3 primeiros colocados (masculino e feminino) nas distâncias 5 km e 10 km com base no tempo bruto.\n– Não haverá premiação por faixa etária.\n  \n\nINFORMAÇÕES IMPORTANTES  \n– Corrida participativa\,\n– Inscrição pessoal e intransferível.\n– Número de inscrições limitado.\n– Em caso de adiamento ou cancelamento\, regras específicas se aplicam (ver regulamento).\n– Sem reembolso para desistência fora do prazo legal.\n– Idade mínima: 16 anos completos até 28/09/2025.\n– Participante autoriza uso gratuito de imagem para fins promocionais do evento.\n  \n\nREGULAMENTO  \nCLIQUE AQUI para acessar o regulamento
URL:https://settime.com.br/event/agita-zona-sul-corrida-de-rua-e-caminhada/
LOCATION:SÃO PAULO-SP\, Av. Guido Caloi -Pista de Bike do Marginal Pinheiros\, 75\, Brasil
ATTACH;FMTTYPE=image/png:https://settime.com.br/wp-content/uploads/2025/08/XMOZLOB8OURT132TQ8M7OEEFDU4306WG8I6Y48H0LLX61BLJLG.png
END:VEVENT
END:VCALENDAR