BEGIN:VCALENDAR
VERSION:2.0
PRODID:-//Settime - ECPv6.15.20//NONSGML v1.0//EN
CALSCALE:GREGORIAN
METHOD:PUBLISH
X-WR-CALNAME:Settime
X-ORIGINAL-URL:https://settime.com.br
X-WR-CALDESC:Eventos para Settime
REFRESH-INTERVAL;VALUE=DURATION:PT1H
X-Robots-Tag:noindex
X-PUBLISHED-TTL:PT1H
BEGIN:VTIMEZONE
TZID:America/Sao_Paulo
BEGIN:STANDARD
TZOFFSETFROM:-0300
TZOFFSETTO:-0300
TZNAME:-03
DTSTART:20240101T000000
END:STANDARD
END:VTIMEZONE
BEGIN:VEVENT
DTSTART;VALUE=DATE:20250803
DTEND;VALUE=DATE:20250804
DTSTAMP:20260423T201451
CREATED:20250724T022830Z
LAST-MODIFIED:20250724T022830Z
UID:1804-1754179200-1754265599@settime.com.br
SUMMARY:Corrida e Caminhada Franciosi- 3ª Edição
DESCRIPTION:Informações Gerais\n\n\n\n\nLocal\nR. Monsenhor Soares\, 219 – Centro – Itapetininga \n\n\n\n\n\nHorários\ndas 07:00 às 12:00 \n\n\n\n\n\nEncerramento das inscrições\n19/06/2025 23:00 \n\n\n\n\n\nRetirada de kits\nFranciosi Imóveis: R. Monsenhor Soares\, 219 – Centro\, Itapetininga 01/08/2025 das 8h às 18h 02/08/2025 das 8h às 17h \n\n\n\n\n\nInformações Gerais\n  \nVem aí a 3ª edição da Corrida da Franciosi! \nData: 03/08/2025———————————————————————————- Local: Franciosi Centro Endereço: Rua Monsenhor Soares\, 219\, Centro – Itapetininga/SP \n⏳ Concentração: A partir das 6h \n⏳ Largada: 7h \n⏳Percurso: 5km e 10km \n⚠️ Importante! Somente a prova de 5km contará pontos para o ranking do Circuito Black Run 2025! ————————————————————————————————–⚠️ Obrigatório 1 litro de leite na retirada do kit para efetivar a inscrição (Os leites serão doados para o fundo social de Itapetininga\, sp)—————————————————- Garanta já a sua vaga! Não fique de fora dessa experiência incrível!  \n\n\n\n\n\nRegulamento\n\nRegulamento Circuito BlackRun\n\n\n\n\n\n\nAutorização de menor de idade\n\n\n\n\n\nValor da inscrição\n\nR$ 75\,00 \n\n\n\n\ninscrições encerradas
URL:https://settime.com.br/event/corrida-e-caminhada-franciosi-3a-edicao/
LOCATION:Itapetininga-SP
ATTACH;FMTTYPE=image/webp:https://settime.com.br/wp-content/uploads/2025/07/Corrida-e-Caminhada-Franciosi-3a-Edicao.webp
END:VEVENT
BEGIN:VEVENT
DTSTART;VALUE=DATE:20250810
DTEND;VALUE=DATE:20250811
DTSTAMP:20260423T201451
CREATED:20250804T205602Z
LAST-MODIFIED:20250804T205602Z
UID:1895-1754784000-1754870399@settime.com.br
SUMMARY:2º TIGER RUN GUARUJÁ
DESCRIPTION:
URL:https://settime.com.br/event/2o-tiger-run-guaruja/
LOCATION:GUARUJÁ-SP
ATTACH;FMTTYPE=image/jpeg:https://settime.com.br/wp-content/uploads/2025/08/WhatsApp-Image-2025-08-04-at-17.53.04.jpeg
END:VEVENT
BEGIN:VEVENT
DTSTART;VALUE=DATE:20250824
DTEND;VALUE=DATE:20250825
DTSTAMP:20260423T201451
CREATED:20250816T195903Z
LAST-MODIFIED:20250816T195903Z
UID:1921-1755993600-1756079999@settime.com.br
SUMMARY:II CORRIDA E CAMINHADA DA APAE 5K GUaRUJA 2025
DESCRIPTION:
URL:https://settime.com.br/event/ii-corrida-e-caminhada-da-apae-5k-guaruja-2025/
LOCATION:GUARUJÁ-SP
ATTACH;FMTTYPE=image/png:https://settime.com.br/wp-content/uploads/2025/08/apa.png
END:VEVENT
BEGIN:VEVENT
DTSTART;VALUE=DATE:20250831
DTEND;VALUE=DATE:20250901
DTSTAMP:20260423T201451
CREATED:20250827T225137Z
LAST-MODIFIED:20250827T225137Z
UID:1967-1756598400-1756684799@settime.com.br
SUMMARY:Caragua 21KM
DESCRIPTION:INFORMAÇÕES\nSOBRE O EVENTO  \nData do evento: 31/08/2025  \nProva Pedestre em piso totalmente de asfalto nas distâncias de 21k\, 10k e 5kms\, com largada e chegada na Secretaria de Turismo\, Av Dr Arthur da Costa Filho\, 25 no Centro de Caraguatatuba. CATEGORIAS 21km\, 10km e 5km – Individual (masculino e Feminino)\, Kids (200 metros) e Caminhada (5 km). c  \n  \nKIT DE PARTICIPAÇÃO   \n Número de Peito (participação) de uso obrigatório;  \nChip;  \n Medalha de participação.   \nObs: Nessa opção de inscrição\, o atleta deve fornecer um kilo de alimento não perecível\, que será doado para o fundo social do município.  \nKIT BÁSICO   \n Número de Peito de uso obrigatório;  \n Chip;  \nCamiseta;  \n Medalha de participação.  \nKIT Premium  \n Número de Peito de uso obrigatório;  \nChip;  \nCamiseta  \nMedalha de participação  \nSqueeze  \nSacochila.   \nObs: Ao adquirir o kit premium\, o atleta terá o direito de largar no pelotão da frente\, sendo o número limite de 1 mil atletas por categoria.  \nA entrega do Kit – Sábado 30 de agosto a partir das 10hs as 19h em local a ser informado em breve. M
URL:https://settime.com.br/event/caragua-21km/
LOCATION:Caraguatatuba-SP\, Av Dr Arthur da Costa Filho\, 25 no Centro de Caraguatatuba\, Caraguatatuba-SP\, SAO PAULO\, Brazil
ATTACH;FMTTYPE=image/png:https://settime.com.br/wp-content/uploads/2025/08/FER.png
END:VEVENT
END:VCALENDAR