BEGIN:VCALENDAR
VERSION:2.0
PRODID:-//Settime - ECPv6.15.20//NONSGML v1.0//EN
CALSCALE:GREGORIAN
METHOD:PUBLISH
X-WR-CALNAME:Settime
X-ORIGINAL-URL:https://settime.com.br
X-WR-CALDESC:Eventos para Settime
REFRESH-INTERVAL;VALUE=DURATION:PT1H
X-Robots-Tag:noindex
X-PUBLISHED-TTL:PT1H
BEGIN:VTIMEZONE
TZID:America/Sao_Paulo
BEGIN:STANDARD
TZOFFSETFROM:-0300
TZOFFSETTO:-0300
TZNAME:-03
DTSTART:20240101T000000
END:STANDARD
END:VTIMEZONE
BEGIN:VEVENT
DTSTART;VALUE=DATE:20250727
DTEND;VALUE=DATE:20250728
DTSTAMP:20260423T215816
CREATED:20250724T021303Z
LAST-MODIFIED:20250724T021340Z
UID:1792-1753574400-1753660799@settime.com.br
SUMMARY:II JESUS LIVE RUN
DESCRIPTION:II JESUS LIVE RUN\n\n ARTE FINAL BRASIL\n 27/07/2025\n Pista de Bike do Marginal Pinheiros: Av. Guido Caloi\, 75\, São Paulo\, SP\, Brasil\n\n\n\nSOBRE O EVENTO \nO JESUS LIVE RUN – Corrida de Rua e Caminhada\, da Liga de Incentivo ao Esporte\, terá o percurso de 5k e 10k\, e caminhada de 3 k.\nEsta corrida terá o suporte de ambulância\, estrutura de largada e apoio de guarda-volumes\, hidratação e estacionamento do Parque grátis.\n\nPara as opções de corrida de 5k ou 10k\, terá uso de chip para cronometragem do tempo de cada atleta\n\nTodos os participantes receberão medalha e haverá premiação com troféu para os 3 primeiros colocados na categoria de 5 km e 10 km\, tanto masculino como feminino\n\nA corrida começará impreterivelmente às 7 hs\, solicitamos a todos que cheguem meia hora antes.\nO local da corrida é muito estruturado\, seguro e confortável para esse tipo de evento.\n\nAs opções de inscrições são diversas\, com camiseta de manga curta\, com opção de kit com sacochila e squeeze e também a opção econômica sem camiseta nem kit.\n\nEm Hebreus 12:1\, lemos: “Portanto\, também nós\, uma vez que estamos rodeados por tão grande nuvem de testemunhas\, desembaraçando-nos de todo peso e do pecado que tão de perto nos rodeia\, corramos\, com perseverança\, a carreira que nos está proposta.”\nEsta é uma boa estratégia para desenvolvimento da capacidade físico motora\, e uma ótima oportunidade para a você ter comunhão com os atletas que curtem corrida de rua como você.\n\nHaverá sorteio de diversos brindes no final do evento.\n\nTodos estão convidados\, não perca por nada!\n \nPercurso\n\n\n\n\n\n \nCamisetas\n\n\n\n\nAproveite essa grande oportunidade e DIVULGUE PARA OS SEUS AMIGOS E CONTATOS!\nParticipe dessa grande corrida e conquiste o pódio que você deseja!\n\n  \n\n\nINSCRIÇÕES \nLote 1 – até 30/06/25\nSem camiseta nem kit – R$ 69\,90\nCom Camiseta – R$ 89.90\nCom Camiseta e Kit – R$ 120\,00\nLote 2 – de 01/07/25 até 22/07/25\nSem camiseta nem kit – R$ 74\,90\nCom Camiseta – R$ 99.90\nCom Camiseta e Kit – R$ 120\,00\n  \n\n\nPERCURSO \n\n\n\nIMPORTANTE: O percurso será ida e volta\, com\n                              – retorno em 2.5 km para 5 k\n                              – retorno em 5 km para 10 k\n\n\n  \n\n\nKIT \nRETIRADA\n\nDia 25/07 a retirada será na Estrada do Campo Limpo\, 5133 – Sala 4 – das 10:00 às 19:00 hs\nDias 26/07 a retirada será na Estrada do Campo Limpo\, 5133 – Sala 4 – das 10:00 às 15:00 hs\nNo dia 27/07 a retirada será na Concentração da corrida a partir das 6:00 hs até às 6:30 hs\n\nSomente será permitida a retirada de kits por terceiros se este portar o documento da pessoa que vai participar\n  \n\n\nREGULAMENTO \nCLIQUE AQUI para acessar o regulamento completo\n  \n\n\n\n\n\n\nVendas encerradas. \n\n\nORGANIZADORARTE FINAL BRASIL \n\n\nJÁ FEZ SEU PEDIDO? \n2ª via de boletoProtocolo de inscriçãoAcesse a Área do ParticipanteDúvidas sobre a inscriçãoFale conoscoDenunciar evento
URL:https://settime.com.br/event/ii-jesus-live-run/
LOCATION:SÃO PAULO-SP\, Av. Guido Caloi -Pista de Bike do Marginal Pinheiros\, 75\, Brasil
ATTACH;FMTTYPE=image/png:https://settime.com.br/wp-content/uploads/2025/07/jesus.png
END:VEVENT
BEGIN:VEVENT
DTSTART;VALUE=DATE:20250727
DTEND;VALUE=DATE:20250728
DTSTAMP:20260423T215816
CREATED:20250724T021924Z
LAST-MODIFIED:20250724T021924Z
UID:1796-1753574400-1753660799@settime.com.br
SUMMARY:Angels Nest Trail Run - etapa de inverno
DESCRIPTION:Angels Nest Trail Run – etapa de inverno\n\n Angels Nest Trail Run\n 27/07/2025\n Rio Abaixo: Estr. São Benedito\, 1600\, Juquitiba\, SP\, Brasil\n\n\nINSCRIÇÕES  \nAs inscrições serão feitas exclusivamente online\, até o dia 30/06/2025\, ou até o limite de participantes.\nValores:\n• kit sem camiseta: 140\,00\n• kit com camiseta: 220\,00\n\nÉ de total responsabilidade do atleta o preenchimento correto de todos os campos de inscrição.\nDados incorretos poderão desclassificar o atleta no dia da prova.\nAtletas de 10 a 18 anos só podem se inscrever com autorização dos pais ou responsáveis.\nAtletas entre 10 e 18 anos e maiores de 60 anos têm desconto de 20% em qualquer inscrição.\nNão haverá devolução do valor da inscrição\n  \n\nSOBRE O EVENTO  \nO Angels Nest Trail Run será realizado no dia 27/07/2025\, em Juquitiba-SP\, com caminhada de 5km e corrida nas distancias de 6\, 8 e 16km. Este regulamento é parte integrante do evento e deve ser aceito por todos os participantes\n\nA corrida é organizada com o objetivo de promover a prática esportiva em harmonia com a natureza.\n\nLargada\n7:30am\n  \n\nPREMIAÇÃO  \nMasculino e feminino Geral para os 3 primeiros colocados\nMasculino e feminino até 25 para os 3 primeiros colocados\nMasculino e feminino até 35 para os 3 primeiros colocados\nMasculino e feminino até 45 para os 3 primeiros colocados\nMasculino e feminino Master +45 para os 3 primeiros colocados\nTodos os participantes que completarem a prova receberão medalha de participação.\n  \n\nKIT  \nOs kits serão compostos por:\n• Camiseta oficial;\n• Bandana;\n• Número de peito;\n• Chip de cronometragem;\n• Medalha (entregue ao final da prova)\n  \n\nMAPA DO PERCURSO  \nEM BREVE!\n  \n\nREGULAMENTO  \nCLIQUE AQUI para acessar o regulamento completo
URL:https://settime.com.br/event/angels-nest-trail-run-etapa-de-inverno/
LOCATION:Juquitiba\, SP\, Brasil
ATTACH;FMTTYPE=image/png:https://settime.com.br/wp-content/uploads/2025/07/9KX72L5B640JNGL388U3JX3L77KUGLNMM810Z6L06FI9U2HWLM.png
END:VEVENT
BEGIN:VEVENT
DTSTART;VALUE=DATE:20250727
DTEND;VALUE=DATE:20250728
DTSTAMP:20260423T215816
CREATED:20250724T022215Z
LAST-MODIFIED:20250724T022511Z
UID:1800-1753574400-1753660799@settime.com.br
SUMMARY:Corrida e Caminhada Bom Jesus de Alambari-SP
DESCRIPTION:Informações Gerais\n\n\n\n\nLocal\nPraça Dom Joaquim José Vieira\, S/N° Centro – Alambari-SP \n\n\n\n\n\nHorários\ndas 07:00 às 12:00 \n\n\n\n\n\nEncerramento das inscrições\n05/07/2025 03:29 \n\n\n\n\n\nRetirada de kits\nOBRIGATÓRIO levar 1 litro de óleo por inscrição —————————————— ————— DIA 25/07/2025 – das 10:00hs as 18:00hs e DIA 26/07/2025 das 10:00hs as 18:00hs ————- Local: LUPO | Itapetininga – R. Silva Jardim\, 679 – Centro\, Itapetininga – SP\, 18200-010 Caso alguma alteração será postado nas redes sociais 😉 🏃🏻🏃🏻‍♀️ \n\n\n\n\n\nInformações Gerais\n🎉 Cupom de Desconto Ativo até amanhã! Use o código #bomjesusalambari e ganhe R$15 de desconto na sua inscrição para a Corrida do Bom Jesus de Alambari! Válido até às 19h do dia 11/04/2025. \n\n\n\n\n\nRegulamento\n\nRegulamento Circuito BlackRun\n\n\n\n\n\n\nValor da inscrição\n\nR$ 80\,00 \n\n\n\n\ninscrições encerradas
URL:https://settime.com.br/event/corrida-e-caminhada-bom-jesus-de-alambari-sp/
LOCATION:Itapetininga-SP
ATTACH;FMTTYPE=image/jpeg:https://settime.com.br/wp-content/uploads/2025/07/corrida-caminhada-bom-jesus-de-alambari-thumb-aa.jpg
END:VEVENT
END:VCALENDAR