BEGIN:VCALENDAR
VERSION:2.0
PRODID:-//Settime - ECPv6.15.20//NONSGML v1.0//EN
CALSCALE:GREGORIAN
METHOD:PUBLISH
X-ORIGINAL-URL:https://settime.com.br
X-WR-CALDESC:Eventos para Settime
REFRESH-INTERVAL;VALUE=DURATION:PT1H
X-Robots-Tag:noindex
X-PUBLISHED-TTL:PT1H
BEGIN:VTIMEZONE
TZID:America/Sao_Paulo
BEGIN:STANDARD
TZOFFSETFROM:-0300
TZOFFSETTO:-0300
TZNAME:-03
DTSTART:20240101T000000
END:STANDARD
END:VTIMEZONE
BEGIN:VEVENT
DTSTART;TZID=America/Sao_Paulo:20250407T000000
DTEND;TZID=America/Sao_Paulo:20250407T000000
DTSTAMP:20260424T030735
CREATED:20250407T223015Z
LAST-MODIFIED:20250408T012353Z
UID:697-1743984000-1743984000@settime.com.br
SUMMARY:CORRIDA PQ.ANHANGUERA 4ºETAPA
DESCRIPTION:
URL:https://settime.com.br/event/corrida-pq-anhanguera-4oetapa/
ATTACH;FMTTYPE=image/png:https://settime.com.br/wp-content/uploads/2025/04/F79EBFAE-1D96-4649-B6E2-153A7C6388AE.png
END:VEVENT
BEGIN:VEVENT
DTSTART;VALUE=DATE:20250418
DTEND;VALUE=DATE:20250419
DTSTAMP:20260424T030735
CREATED:20250215T200013Z
LAST-MODIFIED:20250402T142900Z
UID:1501-1744934400-1745020799@settime.com.br
SUMMARY:Ironmamis 60 - 5k
DESCRIPTION:
URL:https://settime.com.br/event/ironmamis-60-5k/
LOCATION:São Paulo
ATTACH;FMTTYPE=image/jpeg:https://settime.com.br/wp-content/uploads/2025/04/c3d97df0-68c1-4826-998d-16b0f58ce6ce-e1744821733201.jpg
END:VEVENT
BEGIN:VEVENT
DTSTART;VALUE=DATE:20250418
DTEND;VALUE=DATE:20250419
DTSTAMP:20260424T030735
CREATED:20250416T164243Z
LAST-MODIFIED:20250416T164243Z
UID:1659-1744934400-1745020799@settime.com.br
SUMMARY:IronMamis
DESCRIPTION:
URL:https://settime.com.br/event/ironmamis/
LOCATION:SÃO PAULO-SP\, Av. Guido Caloi -Pista de Bike do Marginal Pinheiros\, 75\, Brasil
ATTACH;FMTTYPE=image/jpeg:https://settime.com.br/wp-content/uploads/2025/04/c3d97df0-68c1-4826-998d-16b0f58ce6ce-e1744821733201.jpg
END:VEVENT
BEGIN:VEVENT
DTSTART;VALUE=DATE:20250427
DTEND;VALUE=DATE:20250428
DTSTAMP:20260424T030735
CREATED:20250123T230722Z
LAST-MODIFIED:20250123T230722Z
UID:1469-1745712000-1745798399@settime.com.br
SUMMARY:TRAILRUNNING SERRA DO JAPI
DESCRIPTION:SOBRE O EVENTO \n  \nA Etapa Trail Running Serra do Japi / Fazenda Japiape\, será realizada no domingo\, 27 de Abril de 2025\, no Endereço: Estrada Francisco Missé\, 6000 – Jundiaí/Cajamar Cep 06550-990 As condições climáticas\, de qualquer natureza\, pode sim interditar na realização da prova. Fica reservado a Trail Running\, organizadora do evento\, a decisão sobre qualquer eventualidade relacionada ao tema.\n\nTrail Running (6Km e 12km – Trilhas e Terra) – com largada ás 07h00 para todos os Públicos. Poderão se inscrever participantes com idade mínima de 14 (catorze) anos completos até 31 de dezembro do ano da prova.\nAo longo do percurso haverá postos de hidratação com água devidamente sinalizados. Na chegada todos os atletas receberão água e eventuais produtos oferecidos pelos patrocinadores.\nA organização não se responsabiliza pelas condições da pista\, ou pelos defeitos apresentados em todo o percurso\n\nTRAILRUNNING SERRA DO JAPI
URL:https://settime.com.br/event/trailrunning-serra-do-japi/
LOCATION:Jundiaí\, SP\, Brasil
ATTACH;FMTTYPE=image/jpeg:https://settime.com.br/wp-content/uploads/2025/01/1fe654ea-b00d-449c-ae25-471eea5b0dcc.jpg
END:VEVENT
BEGIN:VEVENT
DTSTART;VALUE=DATE:20250427
DTEND;VALUE=DATE:20250428
DTSTAMP:20260424T030735
CREATED:20250419T184841Z
LAST-MODIFIED:20250419T184841Z
UID:1661-1745712000-1745798399@settime.com.br
SUMMARY:SetTime
DESCRIPTION:
URL:https://settime.com.br/event/settime/
LOCATION:SÃO PAULO-SP\, Av. Guido Caloi -Pista de Bike do Marginal Pinheiros\, 75\, Brasil
END:VEVENT
END:VCALENDAR