BEGIN:VCALENDAR
VERSION:2.0
PRODID:-//Settime - ECPv6.15.20//NONSGML v1.0//EN
CALSCALE:GREGORIAN
METHOD:PUBLISH
X-WR-CALNAME:Settime
X-ORIGINAL-URL:https://settime.com.br
X-WR-CALDESC:Eventos para Settime
REFRESH-INTERVAL;VALUE=DURATION:PT1H
X-Robots-Tag:noindex
X-PUBLISHED-TTL:PT1H
BEGIN:VTIMEZONE
TZID:America/Sao_Paulo
BEGIN:STANDARD
TZOFFSETFROM:-0300
TZOFFSETTO:-0300
TZNAME:-03
DTSTART:20230101T000000
END:STANDARD
END:VTIMEZONE
BEGIN:VEVENT
DTSTART;VALUE=DATE:20241020
DTEND;VALUE=DATE:20241021
DTSTAMP:20260424T132351
CREATED:20240815T233341Z
LAST-MODIFIED:20240815T233341Z
UID:1158-1729382400-1729468799@settime.com.br
SUMMARY:4ª Corrida e Caminhada São Judas Tadeu
DESCRIPTION:
URL:https://settime.com.br/event/4a-corrida-e-caminhada-sao-judas-tadeu/
LOCATION:Niterói-RJ
ATTACH;FMTTYPE=image/png:https://settime.com.br/wp-content/uploads/2024/08/B8DHG1JYX4P-NAM0.png
END:VEVENT
END:VCALENDAR