BEGIN:VCALENDAR
VERSION:2.0
PRODID:-//Settime - ECPv6.15.20//NONSGML v1.0//EN
CALSCALE:GREGORIAN
METHOD:PUBLISH
X-ORIGINAL-URL:https://settime.com.br
X-WR-CALDESC:Eventos para Settime
REFRESH-INTERVAL;VALUE=DURATION:PT1H
X-Robots-Tag:noindex
X-PUBLISHED-TTL:PT1H
BEGIN:VTIMEZONE
TZID:America/Sao_Paulo
BEGIN:STANDARD
TZOFFSETFROM:-0300
TZOFFSETTO:-0300
TZNAME:-03
DTSTART:20250101T000000
END:STANDARD
END:VTIMEZONE
BEGIN:VEVENT
DTSTART;VALUE=DATE:20260329
DTEND;VALUE=DATE:20260330
DTSTAMP:20260423T081712
CREATED:20260119T201730Z
LAST-MODIFIED:20260119T201730Z
UID:2523-1774742400-1774828799@settime.com.br
SUMMARY:JESUS LIVE RUN 2026
DESCRIPTION:SOBRE O EVENTO  \nO JESUS LIVE RUN – Corrida de Rua e Caminhada\, da Liga de Incentivo ao Esporte\, é uma grande oportunidade para todos que tem Jesus Cristo em seu coração\, e deseja correr para divulgar esse verdade em sua vida. \nEste evento terá o percurso de 5k e 10k\, e caminhada de 3 k. \nEsta corrida terá o suporte com ambulância\, estrutura de largada e apoio de guarda-volumes\, hidratação e estacionamento do próprio Parque grátis. \nPara as opções de corrida de 5k ou 10k\, terá uso de chip para cronometragem do tempo de cada atleta \nTodos os participantes receberão medalha e haverá premiação com troféu para os 3 primeiros colocados na categoria de 5 km e 10 km\, tanto masculino como feminino \nA corrida começará impreterivelmente às 7 hs\, solicitamos a todos que cheguem meia hora antes. \nO local da corrida é muito estruturado\, seguro e confortável para esse tipo de evento. \nAs opções de inscrições são diversas\, com camiseta de manga curta\, com opção de kit com sacochila e squeeze e também a opção econômica sem camiseta nem kit. \nPara acompanhar as informações sobre esta corrida\, e\, posteriormente\, as fotos e classificação\, acessar o site ligadeincentivoaoesporte.com.br/eventos \nEm Hebreus 12:1\, lemos: “Portanto\, também nós\, uma vez que estamos rodeados por tão grande nuvem de testemunhas\, desembaraçando-nos de todo peso e do pecado que tão de perto nos rodeia\, corramos\, com perseverança\, a carreira que nos está proposta.” \nEsta é uma boa estratégia para desenvolvimento da capacidade físico motora\, e uma ótima oportunidade para a você ter comunhão com os atletas que curtem corrida de rua como você\, e uma grande estratégia de divulgar o Nome de Cristo para muita gente. \nHaverá sorteio de brindes no final do evento. \nTodos estão convidados\, não perca por nada! \nE lembre-se sempre: JESUS ESTÁ VIVO e JESUS TE AMA!\n  \n\nPERCURSO  \n🚩 DISTÂNCIAS E MODALIDADES:\n– Corrida 5 km (masculino e feminino)\n– Corrida 10 km (masculino e feminino)\n– Caminhada participativa (sem cronometragem oficial)
URL:https://settime.com.br/event/jesus-live-run-2026/
LOCATION:SÃO PAULO-SP\, Av. Guido Caloi -Pista de Bike do Marginal Pinheiros\, 75\, Brasil
ATTACH;FMTTYPE=image/png:https://settime.com.br/wp-content/uploads/2026/01/jesus-li.png
END:VEVENT
BEGIN:VEVENT
DTSTART;VALUE=DATE:20260329
DTEND;VALUE=DATE:20260330
DTSTAMP:20260423T081712
CREATED:20260314T122552Z
LAST-MODIFIED:20260314T131022Z
UID:2598-1774742400-1774828799@settime.com.br
SUMMARY:Angels Nest Trail Run – 1ª Etapa
DESCRIPTION:SOBRE O EVENTO \n\nPrepare-se para viver a emoção das trilhas em meio à natureza exuberante de Juquitiba-SP!\n\nA Angels Nest Trail Run & Bike está de volta em 2026 com uma temporada recheada de aventura\, superação e espírito esportivo. Serão três etapas imperdíveis ao longo do ano\, com provas para todos os níveis e idades.\n\nA Angels Nest é mais do que uma competição – é uma experiência completa de contato com a natureza\, desafios pessoais e celebração entre amigos\, com provas de corrida em trilha\, caminhada\, corrida kids e mountain bike.\n\n\n\nPERCURSO \n\n📅 ETAPAS:\n• 1ª Etapa – Corrida a Pé\, Caminhada e Corrida Kids\n• 2ª Etapa – Corrida a Pé\, Caminhada\, Corrida Kids e Bike\n• 3ª Etapa (Etapa Final) – Corrida a Pé\, Caminhada\, Corrida Kids e Bike🏃‍♂️ MODALIDADES:\nCorrida Trail Run – 6 km\, 8 km e 16 km (com premiação Geral e por Categoria de Idade)\nCaminhada – Participativa\, sem premiação\nCorrida Kids – 1\,5 km\, recreativa e educativa\nMountain Bike (a partir da 2ª etapa) – Bike Light e Bike Pro (distâncias a definir\, com premiação Geral e por Categoria de Idade)
URL:https://settime.com.br/event/angels-nest-trail-run-1a-etapa/
LOCATION:Juquitiba\, SP\, Brasil
ATTACH;FMTTYPE=image/webp:https://settime.com.br/wp-content/uploads/2026/03/GERNV32O5EJZBDU0Q5XYTGCE097BYFAYHIE0G2LBI9SWXKH2M6.webp
END:VEVENT
END:VCALENDAR