BEGIN:VCALENDAR
VERSION:2.0
PRODID:-//Settime - ECPv6.15.20//NONSGML v1.0//EN
CALSCALE:GREGORIAN
METHOD:PUBLISH
X-ORIGINAL-URL:https://settime.com.br
X-WR-CALDESC:Eventos para Settime
REFRESH-INTERVAL;VALUE=DURATION:PT1H
X-Robots-Tag:noindex
X-PUBLISHED-TTL:PT1H
BEGIN:VTIMEZONE
TZID:America/Sao_Paulo
BEGIN:STANDARD
TZOFFSETFROM:-0300
TZOFFSETTO:-0300
TZNAME:-03
DTSTART:20250101T000000
END:STANDARD
END:VTIMEZONE
BEGIN:VEVENT
DTSTART;VALUE=DATE:20260308
DTEND;VALUE=DATE:20260309
DTSTAMP:20260423T103316
CREATED:20260119T201955Z
LAST-MODIFIED:20260119T201955Z
UID:2526-1772928000-1773014399@settime.com.br
SUMMARY:CIRCUITO DE CORRIDA PARK RUN DO CARAMELO - DESAFIO ANIMAL TERCEIRA EDIÇÃO
DESCRIPTION:SOBRE O EVENTO  \n✨Prepare-se para a corrida mais divertida\, pet friendly e solidária do ano! O Circuito de Corrida Park Run do Caramelo – Desafio Animal está de volta para sua terceira edição\, trazendo esporte\, lazer\, conscientização e muito amor pelos pets! 🐶👟 \n📅 Data: 08 de março de 2026 (domingo)\n📍 Local: Velódromo Municipal de Caieiras – Rua João Dártora\, 146-152 – Centro – Caieiras/SP\n⏰ Abertura da arena: 06h00 | Largada: 07h30\n👥 Limite de participantes: 500 atletas \n  \n\nPERCURSO  \n🏃‍♂️ Corrida 5 km – Percurso em asfalto (sem pet)\n🐕‍🦺 Cãominhada 2 km – Percurso em asfalto (com pet)\n👧 Corrida Kids – Provas por faixa etária (2 a 16 anos)\, dentro da arena\n  \n\nINSCRIÇÕES  \n🗓️ Período de inscrições:\nDe 01/11/2025 a 23/02/2026 (ou até esgotar as vagas) \n🎯 Descontos: Atletas com 60 anos ou mais têm 50% de desconto\, conforme legislação vigente. \n  \n\nENTREGA DE KITS  \n📦 Entrega de Kits\n– 📍 Loja Decathlon Marginal Tietê – 06/03 (sexta)\, das 16h às 19h\n– 📍 Velódromo Municipal de Caieiras – 07/03 (sábado)\, das 14h às 17h\n– 📍 Dia do evento – Das 06h às 06h30 (somente para atletas de outras cidades\, com comprovante de endereço) \n🛑 Importante: O tamanho da camiseta não poderá ser alterado no momento da retirada. \n  \n\nPREMIAÇÃO  \n🏆 Premiação Corrida 5 km: Troféus exclusivos para os 10 primeiros colocados gerais masculino e 10 primeiras colocadas gerais feminino.\n🏅 Medalha de participação para todos que concluírem suas modalidades.\n🏆 Troféu especial para a maior equipe inscrita na Corrida 5 km.\n📸 Documento com foto obrigatório para retirada de troféus.\n  \n\nINFORMAÇÕES GERAIS  \n⚠️ O evento será realizado mesmo em caso de chuva (exceto em condições climáticas extremas).\n🎒 Guarda-volumes disponível das 06h às 11h.\n🚑 Ambulância e equipe médica de plantão durante todo o evento.\n📝 Ao se inscrever\, o participante autoriza o uso de sua imagem em materiais promocionais.\n  \n\nPROGRAMAÇÃO DO EVENTO  \n06:00 hs – Abertura da arena\n07:15 hs – Concentração e aquecimento\n07:30 hs – Largada Corrida 5 km\n07:40 hs – Largada Cãominhada 2 km\n09:30 hs– Corrida Kids\n10:00 hs – Premiação e sorteios\n11:00 hs – Encerramento do evento\n  \n\nCURIOSIDADES  \n🎉 Atividades Paralelas:\n– 🐾 Feira de adoção responsável\n– 🎡 Espaço Kids com brinquedos infláveis\n– 🍔 Feira gastronômica\n– 🐕 Desfile e apresentações de pets\n– 🛍️ Venda de acessórios pet (renda revertida à causa animal)\n– 🎶 Música ambiente e atividades interativas \n📢 Fique por dentro!\nSiga @visaoeventos.sp no Instagram para atualizações\, bastidores e mais informações. \n📧 Dúvidas? Entre em contato pelas redes sociais ou pelos canais de atendimento das plataformas de inscrição. \n  \n\nREGULAMENTO  \nREGULAMENTOI.pdf
URL:https://settime.com.br/event/circuito-de-corrida-park-run-do-caramelo-desafio-animal-terceira-edicao/
ATTACH;FMTTYPE=image/png:https://settime.com.br/wp-content/uploads/2026/01/caram.png
END:VEVENT
END:VCALENDAR