BEGIN:VCALENDAR
VERSION:2.0
PRODID:-//Settime - ECPv6.15.20//NONSGML v1.0//EN
CALSCALE:GREGORIAN
METHOD:PUBLISH
X-WR-CALNAME:Settime
X-ORIGINAL-URL:https://settime.com.br
X-WR-CALDESC:Eventos para Settime
REFRESH-INTERVAL;VALUE=DURATION:PT1H
X-Robots-Tag:noindex
X-PUBLISHED-TTL:PT1H
BEGIN:VTIMEZONE
TZID:America/Sao_Paulo
BEGIN:STANDARD
TZOFFSETFROM:-0300
TZOFFSETTO:-0300
TZNAME:-03
DTSTART:20250101T000000
END:STANDARD
END:VTIMEZONE
BEGIN:VEVENT
DTSTART;VALUE=DATE:20260301
DTEND;VALUE=DATE:20260302
DTSTAMP:20260423T103019
CREATED:20260119T201536Z
LAST-MODIFIED:20260119T201536Z
UID:2520-1772323200-1772409599@settime.com.br
SUMMARY:POWER LIG RUN 2026
DESCRIPTION:SOBRE O EVENTO \n  \nO POWER LIG RUN – Corrida de Rua e Caminhada\, da Liga de Incentivo ao Esporte\, terá o percurso de 5k e 10k\, e caminhada de 3 k.\n\nEsta corrida terá todo o suporte de segurança\, com ambulância\, estrutura de largada e apoio de guarda-volumes\, hidratação e estacionamento grátis. \nPara as opções de corrida de 5k ou 10k\, terá uso de chip para cronometragem do tempo de cada atleta \nTodos os participantes receberão medalha e haverá premiação com troféu para os 3 primeiros colocados na categoria de 5 km e 10 km\, tanto masculino como feminino \nA corrida começará impreterivelmente às 7 hs\, solicitamos a todos que cheguem meia hora antes. \nO local da corrida é muito estruturado\, seguro e confortável para esse tipo de evento. \nAs opções de inscrições são diversas\, com camiseta de manga curta\, com opção de kit com sacochila e squeeze e também a opção econômica sem camiseta nem kit. \nHaverá sorteio de diversos brindes no final do evento. \nEsta é uma boa estratégia para desenvolvimento da capacidade físico motora\, e uma ótima oportunidade para a você ter comunhão com os atletas que curtem corrida de rua como você. \nTodos estão convidados\, não perca por nada!
URL:https://settime.com.br/event/power-lig-run-2026/
LOCATION:SÃO PAULO-SP\, Av. Guido Caloi -Pista de Bike do Marginal Pinheiros\, 75\, Brasil
ATTACH;FMTTYPE=image/png:https://settime.com.br/wp-content/uploads/2026/01/power.png
END:VEVENT
BEGIN:VEVENT
DTSTART;VALUE=DATE:20260301
DTEND;VALUE=DATE:20260302
DTSTAMP:20260423T103019
CREATED:20260228T134327Z
LAST-MODIFIED:20260228T135404Z
UID:2554-1772323200-1772409599@settime.com.br
SUMMARY:Corrida e caminhada dos Amigos
DESCRIPTION:Corrida e caminhada dos Amigos
URL:https://settime.com.br/event/power-lig-run-2026-2/
LOCATION:Itapetininga-SP
ATTACH;FMTTYPE=image/jpeg:https://settime.com.br/wp-content/uploads/2026/02/AMIG.jpeg
END:VEVENT
END:VCALENDAR