BEGIN:VCALENDAR
VERSION:2.0
PRODID:-//Settime - ECPv6.15.20//NONSGML v1.0//EN
CALSCALE:GREGORIAN
METHOD:PUBLISH
X-ORIGINAL-URL:https://settime.com.br
X-WR-CALDESC:Eventos para Settime
REFRESH-INTERVAL;VALUE=DURATION:PT1H
X-Robots-Tag:noindex
X-PUBLISHED-TTL:PT1H
BEGIN:VTIMEZONE
TZID:America/Sao_Paulo
BEGIN:STANDARD
TZOFFSETFROM:-0300
TZOFFSETTO:-0300
TZNAME:-03
DTSTART:20240101T000000
END:STANDARD
END:VTIMEZONE
BEGIN:VEVENT
DTSTART;VALUE=DATE:20251213
DTEND;VALUE=DATE:20251214
DTSTAMP:20260423T152230
CREATED:20251207T150611Z
LAST-MODIFIED:20251207T150611Z
UID:2386-1765584000-1765670399@settime.com.br
SUMMARY:1° Edição da Corrida da Cidade em Jacareí
DESCRIPTION:3km caminhada\, 5km e 10km\nLARGADA E PERCURSO INÉDITO NA AV. DAVI LINO
URL:https://settime.com.br/event/1-edicao-da-corrida-da-cidade-em-jacarei/
LOCATION:JACAREI-SP
ATTACH;FMTTYPE=image/jpeg:https://settime.com.br/wp-content/uploads/2025/12/568310237_18430060198107551_3037764347876848801_n.jpg
END:VEVENT
END:VCALENDAR