BEGIN:VCALENDAR
VERSION:2.0
PRODID:-//Settime - ECPv6.15.20//NONSGML v1.0//EN
CALSCALE:GREGORIAN
METHOD:PUBLISH
X-ORIGINAL-URL:https://settime.com.br
X-WR-CALDESC:Eventos para Settime
REFRESH-INTERVAL;VALUE=DURATION:PT1H
X-Robots-Tag:noindex
X-PUBLISHED-TTL:PT1H
BEGIN:VTIMEZONE
TZID:America/Sao_Paulo
BEGIN:STANDARD
TZOFFSETFROM:-0300
TZOFFSETTO:-0300
TZNAME:-03
DTSTART:20240101T000000
END:STANDARD
END:VTIMEZONE
BEGIN:VEVENT
DTSTART;VALUE=DATE:20251116
DTEND;VALUE=DATE:20251117
DTSTAMP:20260423T165336
CREATED:20251111T214108Z
LAST-MODIFIED:20251111T214108Z
UID:2296-1763251200-1763337599@settime.com.br
SUMMARY:MENTONE RUN HAJA LUZ 5K
DESCRIPTION:Um evento inspirador e iluminado que promove saúde\, inclusão social e paixão pelo esporte no litoral paulista! A corrida oficial de 5 km acontecerá no dia 16 de Novembro de 2025\, com largada às 07h00 na Praça Horácio Lafer – Guarujá/SP. Chegada e largada no mesmo local. Aberta a todas as idades e níveis de condicionamento físico.
URL:https://settime.com.br/event/mentone-run-haja-luz-5k/
LOCATION:GUARUJÁ-SP
ATTACH;FMTTYPE=image/png:https://settime.com.br/wp-content/uploads/2025/11/VCR3HW26OCPVMR5FJ3WCO3OTQVRSGVWGPCC8L8HBUB7XXJULWW.png
END:VEVENT
BEGIN:VEVENT
DTSTART;VALUE=DATE:20251116
DTEND;VALUE=DATE:20251117
DTSTAMP:20260423T165336
CREATED:20251111T214507Z
LAST-MODIFIED:20251111T214507Z
UID:2300-1763251200-1763337599@settime.com.br
SUMMARY:CORRIDA ELAS ELES
DESCRIPTION:SOBRE O EVENTO  \nPrepare-se para viver uma manhã de superação\, saúde e celebração na Corrida ELAS & ELES 2025!\nO evento acontece no dia 16 de novembro de 2025\, em Embu das Artes\, e promete reunir atletas de todas as idades em um percurso de 5 km de pura energia e emoção.\n\n📍 Local: Estrada Aurelino Alves dos Santos\, esquina com Av. Rotary – Embu das Artes/SP\n\n🕖 Largada: 7h30\n  \n\nPERCURSO  \n🏃‍♂️ Corrida 5 km – Feminino e Masculino (idade mínima: 14 anos até 31/12/2025)\n🚶‍♀️ Caminhada – Participação livre\n🔢 Categorias por faixa etária (5 km): 14/19 | 20/29 | 30/39 | 40/49 | 50/59 | 60+\n👥 Equipes também podem participar com premiação especial para as maiores inscritas!\n  \n\nINSCRIÇÕES  \nAs inscrições vão até 06/11/2025 ou até atingirmos o limite máximo de atletas. Valores e opções: \n🟢 Corrida 5 km – Kit Completo: R$ 99\,90\n🔵 Corrida 5 km – Kit Simples: R$ 85\,00\n🟣 Caminhada – Kit Completo: R$ 99\,90\n🟡 Corrida – Kit Completo para Idosos (60+): R$ 79\,90 \n  \n\nENTREGA DE KITS  \n📦 Retirada dos kits:\nsábado 15/11  ( horário)  dás  11h ás 15h
URL:https://settime.com.br/event/corrida-elas-eles/
LOCATION:Av.Rotary\, Embu das Artes\, Embu das Artes\, SP\, Brasil
ATTACH;FMTTYPE=image/png:https://settime.com.br/wp-content/uploads/2025/11/ELAS-E.png
END:VEVENT
END:VCALENDAR