BEGIN:VCALENDAR
VERSION:2.0
PRODID:-//Settime - ECPv6.15.20//NONSGML v1.0//EN
CALSCALE:GREGORIAN
METHOD:PUBLISH
X-WR-CALNAME:Settime
X-ORIGINAL-URL:https://settime.com.br
X-WR-CALDESC:Eventos para Settime
REFRESH-INTERVAL;VALUE=DURATION:PT1H
X-Robots-Tag:noindex
X-PUBLISHED-TTL:PT1H
BEGIN:VTIMEZONE
TZID:America/Sao_Paulo
BEGIN:STANDARD
TZOFFSETFROM:-0300
TZOFFSETTO:-0300
TZNAME:-03
DTSTART:20240101T000000
END:STANDARD
END:VTIMEZONE
BEGIN:VEVENT
DTSTART;VALUE=DATE:20250921
DTEND;VALUE=DATE:20250922
DTSTAMP:20260423T201542
CREATED:20250804T204229Z
LAST-MODIFIED:20250804T204229Z
UID:1892-1758412800-1758499199@settime.com.br
SUMMARY:Corrida JUNTOS PELA VIDA
DESCRIPTION:A PROVA\n1-\n2-\nA Corrida JUNTOS PELA VIDA\, será realizada no Parque Bruno Covas-SP\nData 21/09/25 Largada 7:30h.\nDistância de 5km e 10km \, Corrida e Caminhada\nEntrega de kits: Será no dia 20/09 sábado das 10h ás 16h.\nLocal: A definir\n2 – INSCRIÇÕES\, VALORES E KITS\n2.1- O atleta deve se inscrever pelo site até o dia 10/09/2025 ou até atingir o limite\nmáximo de participante.\nA taxa de inscrição:\nKit Completo: R$ 114\,90\nKit Simples: R$ 84\,90\nKit Idoso: R$ 84\,90\nKit completo: Chip\, número\, camiseta\, meia\, medalha\, água e fruta.\nKit Simples: Chip\, número\, medalha\, água e fruta.\nA premiação do atleta no evento é individual tempo bruto.\nGeral: Masculino / Feminino 5 km e 10km\n1ª Troféu\n2ª Troféu\n3ª Troféu\n4ª Troféu\n5ª Troféu\nNo dia da retirada do kit o participante deverá apresentar o documento de\nidentidade.
URL:https://settime.com.br/event/corrida-juntos-pela-vida/
LOCATION:SÃO PAULO-SP\, Av. Guido Caloi -Pista de Bike do Marginal Pinheiros\, 75\, Brasil
ATTACH;FMTTYPE=image/jpeg:https://settime.com.br/wp-content/uploads/2025/08/thumb.jpg
END:VEVENT
BEGIN:VEVENT
DTSTART;VALUE=DATE:20250921
DTEND;VALUE=DATE:20250922
DTSTAMP:20260423T201542
CREATED:20250820T222708Z
LAST-MODIFIED:20250820T222708Z
UID:1925-1758412800-1758499199@settime.com.br
SUMMARY:Burgman Run
DESCRIPTION:Detalhes do Evento\n\nVenha comemorar 9 anos de Burgman com a gente\, será um dia muito especial\, esteja preparado para correr e com sede para hidratar com muito chopp ao final da corrida\, você faz parte da nossa história! \n  \nLargada e chegada no Burgman do canal 1\, a corrida será pela faixa da areia e para todos os tipos de atletas e simpatizantes do chopp. \n  \nSe beber não dirija.. corra! 🏃🏻🍺 \n  \nKit da Corrida\n•⁠ ⁠mochila saco\n•⁠ ⁠⁠camiseta da corrida\n•⁠ ⁠⁠copo refil para chopp no evento\n•⁠ ⁠⁠pulseira com numeração para sorteio\n•⁠ ⁠⁠chip e número de peito do atleta \n  \nA retirada do kit acontecerá nos dias 18\, 19 e 20 de setembro das 16H até 22H na loja Premium Running no shopping Balneário. \n  \nTodos os participantes ganharão medalha e terá premiação para os 3 primeiros colocados categoria feminina e masculina\, bike\, dinheiro e muitos prêmios \, teremos sorteio de brindes para todos os atletas. \n  \nApós a corrida terá uma confraternização com todos os participantes\, DJ\, roda de samba e muito chopp para hidratar (já incluso no valor da inscrição) e ativação dos nossos patrocinadores. \n  \nDistância: 9 KM\nLargada: 8:00\nEndereço: Av Presidente Wilson\, S/N – Burgman Canal 1 \n  \n  \nEndereço\n\n\nQuiosque Burgman Canal 1 \nAvenida Presidente Wilson S/N Canal 1\, Santos – SP11065-201 – Quiosque de Praia – Pompéia\, Santos – SP\, 11065-201\, Brasil
URL:https://settime.com.br/event/burgman-run/
LOCATION:Santos – SP\, Avenida Presidente Wilson S/N Canal 1\, Santos\, Sao Paulo\, 11065-201\, Brazil
ATTACH;FMTTYPE=image/webp:https://settime.com.br/wp-content/uploads/2025/08/bu.webp
END:VEVENT
END:VCALENDAR