BEGIN:VCALENDAR
VERSION:2.0
PRODID:-//Settime - ECPv6.15.20//NONSGML v1.0//EN
CALSCALE:GREGORIAN
METHOD:PUBLISH
X-ORIGINAL-URL:https://settime.com.br
X-WR-CALDESC:Eventos para Settime
REFRESH-INTERVAL;VALUE=DURATION:PT1H
X-Robots-Tag:noindex
X-PUBLISHED-TTL:PT1H
BEGIN:VTIMEZONE
TZID:America/Sao_Paulo
BEGIN:STANDARD
TZOFFSETFROM:-0300
TZOFFSETTO:-0300
TZNAME:-03
DTSTART:20240101T000000
END:STANDARD
END:VTIMEZONE
BEGIN:VEVENT
DTSTART;VALUE=DATE:20250525
DTEND;VALUE=DATE:20250526
DTSTAMP:20260424T030735
CREATED:20250402T142500Z
LAST-MODIFIED:20250402T143840Z
UID:1637-1748131200-1748217599@settime.com.br
SUMMARY:POWER LIG RUN Corrida de rua e Caminhada
DESCRIPTION:Descrição do evento\nO POWER LIG RUN – Corrida de Rua e Caminhada\, da Liga de Incentivo ao Esporte\, \n terá o percurso de 5k e 10k\, e caminhada de 3 k. \n  \nEsta corrida terá todo o suporte com ambulância\, estrutura de largada e apoio de guarda-volumes\, hidratação e estacionamento do Parque grátis. \n  \nPara as opções de corrida de 5k ou 10k\, terá uso de chip para cronometragem do tempo de cada atleta \n  \nTodos os participantes receberão medalha e haverá premiação com troféu para os 3 primeiros colocados na categoria de 5 km e 10 km\, tanto masculino como feminino \n  \nA corrida começará impreterivelmente às 7 hs\, solicitamos a todos que cheguem meia hora antes. \n  \nO local da corrida é muito estruturado\, seguro e confortável para esse tipo de evento. \n  \nAs opções de inscrições são diversas\, com camiseta de manga curta\,  com opção de kit com sacochila e squeeze e também a opção econômica sem camiseta nem kit. \n  \nHaverá sorteio de diversos brindes no final do evento. \n  \nEsta é uma boa estratégia para desenvolvimento da capacidade físico motora\, e uma ótima oportunidade para a você ter comunhão com os atletas que curtem corrida de rua como você. \n  \nTodos estão convidados\, não perca por nada! \n  \nParque Bruno Covas\nAvenida Guido Caloi\, 75\, Entrada em frente ao Supermercado Assai\, na Marginal\, logo após a Ponte João Dias\, Jardim São Luís \nSão Paulo\, SP
URL:https://settime.com.br/event/power-lig-run-corrida-de-rua-e-caminhada/
LOCATION:SÃO PAULO-SP\, Av. Guido Caloi -Pista de Bike do Marginal Pinheiros\, 75\, Brasil
ATTACH;FMTTYPE=image/png:https://settime.com.br/wp-content/uploads/2025/04/F79EBFAE-1D96-4649-B6E2-153A7C6388AE.png
END:VEVENT
BEGIN:VEVENT
DTSTART;VALUE=DATE:20250525
DTEND;VALUE=DATE:20250526
DTSTAMP:20260424T030735
CREATED:20250407T221216Z
LAST-MODIFIED:20250407T221216Z
UID:1645-1748131200-1748217599@settime.com.br
SUMMARY:Power Lig Run 2025
DESCRIPTION:SOBRE O DIA DO EVENTO: \nEndereço: Ciclovia Rio Pinheiros – Zona Sul de São Paulo\, ao lado da Ponte João Dias. \nConcentração: Pomar Bruno Covas\, com entrada na Av. Guido Caloi\, 75\, em frente ao Supermercado Assai da Marginal Pinheiros. \nData: 25 de maio de 2025 \nHorários: \nConcentração – 06h15 \nAquecimento – 06h50 \nLargada – 07h00 \nDistâncias: \nCorrida 5km e 10km – Caminhada 3km \nVALORES: \nLote 1 – até  30/04/25\nSem camiseta nem kit – R$ 59\,90\nCom Camiseta – R$ 79.90\nCom Camiseta e Kit – R$ 99\,90 \nLote 2 – de 01/05/25 até 21/05/25\nSem camiseta nem kit – R$ 64\,90\nCom Camiseta – R$ 89.90\nCom Camiseta e Kit – R$ 99\,90 \nSOBRE O KIT: \nO Kit do atleta será composto por camiseta e medalha comemorativa do treino\n(entregue ao final do evento). \nENTREGA DE KIT PARTICIPAÇÃO: \nDia 23/05/25 na Estrada do Campo Limpo\, 5133 – Sala 4 – Campo Limpo – São Paulo\, SP\, CEP 05787-000\, das 10h às 19h. \nDia 24/05/25\, na Estrada do Campo Limpo\, 5133 – Sala 4 – Campo Limpo – São Paulo\, SP\, CEP 05787-000\, das 10h às 15h. \nDia do evento (25/05/2025)\, das 6h até às 6h30. na tenda de Kits\, localizada na área de concentração.
URL:https://settime.com.br/event/power-lig-run-2025/
LOCATION:SÃO PAULO-SP\, Av. Guido Caloi -Pista de Bike do Marginal Pinheiros\, 75\, Brasil
END:VEVENT
BEGIN:VEVENT
DTSTART;VALUE=DATE:20250525
DTEND;VALUE=DATE:20250526
DTSTAMP:20260424T030735
CREATED:20250518T165920Z
LAST-MODIFIED:20250518T165920Z
UID:1676-1748131200-1748217599@settime.com.br
SUMMARY:Power Lig Run 2025
DESCRIPTION:SOBRE O EVENTO \nEndereço: Av. Guido Caloi\, 75 – Pista de Bike do Marginal Pinheiros\, no PARQUE BRUNO COVAS\, (Ao lado da Ponte João Dias\, em Santo Amaro) \nData: 23/02/2025 \nDistância:  Corrida de Rua 5k\, 10k  e  Caminhada 3k \nVALORES:\n1° Lote:\nSem camiseta nem kit – R$ 59\,90\nCom Camiseta – R$ 79.90\nCom Camiseta e Kit – R$ 99\,90 \n2° Lote\nSem camiseta nem kit – R$ 64\,90\nCom Camiseta – R$ 89.90\nCom Camiseta e Kit – R$ 99\,90 \nSOBRE O KIT: \n\nRETIRADA DE KITS \nDia 21/02 a retirada será na Estrada do Campo Limpo\, 5133 – Sala 4 – das 10:00 às 19:00 hs.\nDia 22/02 a retirada será na Estrada do Campo Limpo\, 5133 – Sala 4 – das 10:00 às 15:00 hs.\nNo dia 23/02 a retirada será na Concentração da corrida a partir das 6:00 hs até às 6:45 hs. \nhttps://www.minhasinscricoes.com.br/Evento/PowerLigRun
URL:https://settime.com.br/event/power-lig-run-2025-2/
LOCATION:SÃO PAULO-SP\, Av. Guido Caloi -Pista de Bike do Marginal Pinheiros\, 75\, Brasil
ATTACH;FMTTYPE=image/jpeg:https://settime.com.br/wp-content/uploads/2025/05/WhatsApp-Image-2025-05-18-at-13.53.43.jpeg
END:VEVENT
END:VCALENDAR