BEGIN:VCALENDAR
VERSION:2.0
PRODID:-//Settime - ECPv6.15.20//NONSGML v1.0//EN
CALSCALE:GREGORIAN
METHOD:PUBLISH
X-WR-CALNAME:Settime
X-ORIGINAL-URL:https://settime.com.br
X-WR-CALDESC:Eventos para Settime
REFRESH-INTERVAL;VALUE=DURATION:PT1H
X-Robots-Tag:noindex
X-PUBLISHED-TTL:PT1H
BEGIN:VTIMEZONE
TZID:America/Sao_Paulo
BEGIN:STANDARD
TZOFFSETFROM:-0300
TZOFFSETTO:-0300
TZNAME:-03
DTSTART:20240101T000000
END:STANDARD
END:VTIMEZONE
BEGIN:VEVENT
DTSTART;VALUE=DATE:20250209
DTEND;VALUE=DATE:20250210
DTSTAMP:20260424T081738
CREATED:20250123T235232Z
LAST-MODIFIED:20250123T235357Z
UID:1485-1739059200-1739145599@settime.com.br
SUMMARY:Circuito Águas Abertas Ubatuba
DESCRIPTION:Circuito Aguas Abertas 2025 – Minhas Inscrições \n  \nVem ai o Circuito feito para os amantes de natação em águas abertas. \nA 1ª Etapa será realizada dia 09 de fevereiro na praia do lázaro em Ubatuba. \nProvas:\nKids 200mt\n500 metros start\n1km open\n2km\n4km\nAquathlon (1km natação + 5km corrida)\nCorrida 5km \nAs inscrições são limitadas.
URL:https://settime.com.br/event/circuito-aguas-abertas-ubatuba/
LOCATION:Ubatuba-SP
ATTACH;FMTTYPE=image/png:https://settime.com.br/wp-content/uploads/2025/01/UBAT.png
END:VEVENT
END:VCALENDAR