BEGIN:VCALENDAR
VERSION:2.0
PRODID:-//Settime - ECPv6.15.20//NONSGML v1.0//EN
CALSCALE:GREGORIAN
METHOD:PUBLISH
X-WR-CALNAME:Settime
X-ORIGINAL-URL:https://settime.com.br
X-WR-CALDESC:Eventos para Settime
REFRESH-INTERVAL;VALUE=DURATION:PT1H
X-Robots-Tag:noindex
X-PUBLISHED-TTL:PT1H
BEGIN:VTIMEZONE
TZID:America/Sao_Paulo
BEGIN:STANDARD
TZOFFSETFROM:-0300
TZOFFSETTO:-0300
TZNAME:-03
DTSTART:20230101T000000
END:STANDARD
END:VTIMEZONE
BEGIN:VEVENT
DTSTART;VALUE=DATE:20241215
DTEND;VALUE=DATE:20241216
DTSTAMP:20260424T112235
CREATED:20241027T200021Z
LAST-MODIFIED:20241027T200043Z
UID:1263-1734220800-1734307199@settime.com.br
SUMMARY:2° Corrida e Caminhada APAExonados
DESCRIPTION:2° Corrida e Caminhada APAExonados\n\n\nData: 15/12/2024 \n\nHora: 06h30 (concentração) e 07h30 (largada) \nLocal da largada:  CRI – Clube Recreativo Itapetiningano\nInscrições: R$ 46\,00 (sem camiseta) e R$ 66\,00 (com camiseta) *Valores com acréscimo no cartão (crédito e débito).\nPremiação por categoria\, geral e equipe com maior número de atletas!\nVagas LIMITADAS – Inscrições até dia 08/11
URL:https://settime.com.br/event/2-corrida-e-caminhada-apaexonados/
LOCATION:Itapetininga-SP
ATTACH;FMTTYPE=image/jpeg:https://settime.com.br/wp-content/uploads/2024/10/APAE.jpg
END:VEVENT
END:VCALENDAR