BEGIN:VCALENDAR
VERSION:2.0
PRODID:-//Settime - ECPv6.15.20//NONSGML v1.0//EN
CALSCALE:GREGORIAN
METHOD:PUBLISH
X-ORIGINAL-URL:https://settime.com.br
X-WR-CALDESC:Eventos para Settime
REFRESH-INTERVAL;VALUE=DURATION:PT1H
X-Robots-Tag:noindex
X-PUBLISHED-TTL:PT1H
BEGIN:VTIMEZONE
TZID:America/Sao_Paulo
BEGIN:STANDARD
TZOFFSETFROM:-0300
TZOFFSETTO:-0300
TZNAME:-03
DTSTART:20230101T000000
END:STANDARD
END:VTIMEZONE
BEGIN:VEVENT
DTSTART;VALUE=DATE:20241110
DTEND;VALUE=DATE:20241111
DTSTAMP:20260424T132419
CREATED:20241109T120942Z
LAST-MODIFIED:20241109T120942Z
UID:1295-1731196800-1731283199@settime.com.br
SUMMARY:VI CORRIDA DOS FORTES 10K 2024
DESCRIPTION:SOBRE O EVENTO \n  \nA I Corrida dos fortes 10K DO GUARUJÁ\, aqui denominado corrida\, é promovido pelo Professor Eduardo Silva\, contando com a organização e\nrealização do Educa Guarujá Sport Fitness e apoio da Secretaria de Esportes e Lazer do Guarujá e respectivos órgãos públicos.\nTem caráter de evento esportivo\, e faz parte do calendário oficial de eventos da cidade de Guarujá – SP\, com objetivo de inclusão social\, incentivo ao esporte e confraternização entre adeptos da modalidade. \nO evento é aberto a atletas anônimos\, amadores\, profissionais\, equipes\, associações\, federações\, clubes e confederações sendo composto por\num regulamento especifico agora referido.\nO presente regulamento é somente para a Vl corrida dos Fortes 10k do Guarujá. \nData 10 de Novembro de 2024 com largada na fortaleza da Barra Grande\nSanta Cruz dos navegantes e Chegada No Forte dos Andradas Guarujá. \nHORÁRIO PREVISTO DE LARGADA: 07:00h\nO horário de largada da corrida e efetiva realização do evento ficarão sujeitos a alterações em razão da quantidade de inscritos e de eventuais problemas de ordem externa\, tais como\, tráfego intenso\, falhas de comunicação\, suspensão no fornecimento de energia e condição climática que coloquem em risco os participantes\, podendo inclusive ser cancelada\, quando a organização compreender que tais fatos possam comprometer a integridade física dos corredores. \nA corrida será disputada na distância de 10 km nas categorias: individual masculino e individual feminino\, com percurso divulgado nos s\nEsta corrida é organizada pela empresa Educa Guarujá a Comissão Organizadora\, constituída por funcionários e colaboradores das empresas organizadoras\, é competente para resolver qualquer problema ou responder dúvida durante a corrida. \nApós a largada\, não serão alterados nenhum dado cadastral e o atleta inscrito indevidamente\, estará automaticamente desclassificado.\nObservação: Este calendário poderá sofrer alterações dependendo das negociações com os órgãos públicos envolvidos ou por interesse do idealizador. Todas as alterações serão comunicadas com prazo suficiente de antecedência aos interessados.
URL:https://settime.com.br/event/vi-corrida-dos-fortes-10k-2024/
LOCATION:GUARUJÁ-SP
ATTACH;FMTTYPE=image/png:https://settime.com.br/wp-content/uploads/2024/11/HVMBJFLJ8DBSE2VIGCEOY0FQECN6Z69WBP8Y5S9KFF3C44LLED.png
END:VEVENT
END:VCALENDAR